Workbook

Sheet accueil
A1: Déterminer la catégorie de l'installation pour identifier les modalités d'application des prescriptions
A4: Date de mise en service de l'installation | B4: [17/04/10 ; 01/07/17] | D4: Liste des différentes catégorie d'ICPE 1510
D5: Nouvelle création | E5: Nouvelle régime inchangée | F5: Nouvelle régime modifiée | G5: Existante régime inchangé | H5: Existante régime modifié | I5: Nouvellement soumise
A6: Une ou des installations étaient elles classées au titre de la rubrique 1510 des ICPE | B6: oui | D6: Nouvelle création ; post 2020 ; Ø -> D | E6: Nouvelle inchangée D | F6: Nouvelle D -> E ou A | G6: Existante ; av. 30/04/2009 ; D | H6: Existante ; av. 30/04/09 ; D -> E/A | I6: Nouvellement soumise D
D7: Nouvelle création ; post 2020 ; Ø -> E | E7: Nouvelle inchangée E | F7: Nouvelle E -> A | G7: Existante ; ap. 30/04/2009 ; D | H7: Existante ; ap. 30/04/09 ; D -> E/A | I7: Nouvellement soumise E
A8: Régime ICPE 1510 de ou des installations au 31/12/2020 | B8: A | D8: Nouvelle création ; post 2020 ; Ø -> A | E8: Nouvelle inchangée A | F8: Nouvelle A -> E | G8: Existante ; av. 01/07/2003 ; E | H8: Existante ; av. 01/07/2003 ; E -> A | I8: Nouvellement soumise A
A9: Régime ICPE 1510 de ou des installations au 01/01/2021 | B9: A | G9: Existante ; [01/07/03 ; 16/04/10] ; E | H9: Existante ; [01/07/03 ; 16/04/10] ; E -> A
G10: Existante ; ap. 16/04/2010 ; E | H10: Existante ; ap. 16/04/2010 ; E -> A
A11: Catégorie de l'installation | G11: Existante ; av. 01/07/2003 ; A | H11: Existante ; av. 01/07/2003 ; A -> E
A12: =IF(calcul!F8>2000,"Compléter les informations requises",VLOOKUP(calcul!F8,calcul!F9:G152,2,0)) -> Existante inchangée ; ap. 01/07/2003 ; A ->A | G12: Existante ; ap. 01/07/2003 ; A | H12: Existante ; ap. 01/07/2003 ; A -> E
A13: Catégorie ; mise en service ; régime 31/12/20 (1510) -> régime actuel (1510)
A15: Prescriptions à appliquer
A16: =IF(calcul!F8>2000,"Compléter les informations requises",VLOOKUP(calcul!F8,calcul!F9:H152,3,0)) -> Annexe IV (pt II) [En vigueur] + Annexe VIII
A17: Annexe N° (pt de l'annexe) [Version]

Sheet calcul
B2: 1510 en 2020 | C2: régime 2020 | D2: régime 2021 | E2: date
B8: =IF(accueil!B6=calcul!J16,2.001,IF(accueil!B6=J17,1,0)) -> 1 | C8: =IF(accueil!B8=calcul!J20,20.01,IF(accueil!B8=calcul!J22,1,IF(accueil!B8=calcul!J23,2,IF(accueil!B8=calcul!J24,3,0)))) -> 3 | D8: =IF(accueil!B9=calcul!L20,200.1,IF(accueil!B9=calcul!J22,1,IF(accueil!B9=calcul!J23,2,IF(accueil!B9=calcul!J24,3,0)))) -> 3 | E8: =IF(accueil!B4=calcul!J8,2001,IF(accueil!B4=calcul!J9,1,IF(accueil!B4=calcul!J10,2,IF(accueil!B4=calcul!J11,3,IF(accueil!B4=calcul!J12,4,IF(accueil!B4=calcul!J13,5,6)))))) -> 4 | F8: =B8*1000+C8*100+D8*10+E8 -> 1334 | G8: =IF(F8>2000,"Compléter les informations requises",VLOOKUP(F8,F9:H152,3,0)) -> Annexe IV (pt II) [En vigueur] + Annexe VIII | H8: Prescriptions à appliquer | J8: Date de mise en service ?
B9: 0 | C9: 0 | D9: 1 | E9: 6 | F9: =B9*1000+C9*100+D9*10+E9 -> 16 | G9: Nouvelle création ; post 2020 ; Ø -> D | H9: Annexe II [En vigueur] + Annexe III | J9: av. 01/07/03 | K9: 1
B10: 0 | C10: 0 | D10: 2 | E10: 6 | F10: =B10*1000+C10*100+D10*10+E10 -> 26 | G10: Nouvelle création ; post 2020 ; Ø -> E | H10: Annexe II [En vigueur] | J10: [01/07/03 ; 29/04/09] | K10: 2
B11: 0 | C11: 0 | D11: 3 | E11: 6 | F11: =B11*1000+C11*100+D11*10+E11 -> 36 | G11: Nouvelle création ; post 2020 ; Ø -> A | H11: Annexe II [En vigueur] | J11: [30/04/09 ; 16/04/10] | K11: 3
B12: 1 | C12: 1 | D12: 1 | E12: 5 | F12: =B12*1000+C12*100+D12*10+E12 -> 1115 | G12: Nouvelle inchangée ; [02/07/17 ; 31/12/20] ; D ->D | H12: Annexe II [En vigueur] | J12: [17/04/10 ; 01/07/17] | K12: 4
B13: 1 | C13: 2 | D13: 2 | E13: 5 | F13: =B13*1000+C13*100+D13*10+E13 -> 1225 | G13: Nouvelle inchangée ; [02/07/17 ; 31/12/20] ; E -> E | H13: Annexe II [En vigueur] | J13: [02/07/17 ; 31/12/20] | K13: 5
B14: 1 | C14: 3 | D14: 3 | E14: 5 | F14: =B14*1000+C14*100+D14*10+E14 -> 1335 | G14: Nouvelle inchangée ; [02/07/17 ; 31/12/20] ; A -> A | H14: Annexe II [En vigueur] | J14: ap. 2020 | K14: 6
B15: 1 | C15: 1 | D15: 2 | E15: 5 | F15: =B15*1000+C15*100+D15*10+E15 -> 1125 | G15: Nouvelle modifiée ; [02/07/17 ; 31/12/20] ; D -> E ou A | H15: Annexe II [31-12-20] + Annexe III + Annexe VII (pt I) + Annexe VIII
B16: 1 | C16: 1 | D16: 3 | E16: 5 | F16: =B16*1000+C16*100+D16*10+E16 -> 1135 | G16: Nouvelle modifiée ; [02/07/17 ; 31/12/20] ; D -> E ou A | H16: Annexe II [31-12-20] + Annexe III + Annexe VII (pt I) + Annexe VIII | J16: ICPE 1510 en 2020 ?
B17: 1 | C17: 2 | D17: 3 | E17: 5 | F17: =B17*1000+C17*100+D17*10+E17 -> 1235 | G17: Nouvelle modifiée ; [02/07/17 ; 31/12/20] ; E -> A | H17: Annexe II [31-12-20] + Annexe VII (pt I) + Annexe VIII | J17: oui
B18: 1 | C18: 3 | D18: 2 | E18: 5 | F18: =B18*1000+C18*100+D18*10+E18 -> 1325 | G18: Nouvelle modifiée ; [02/07/17 ; 31/12/20] ; A -> E | H18: Annexe II [31-12-20] + Annexe VII (pt I) + Annexe VIII | J18: non
B19: 1 | C19: 1 | D19: 1 | E19: 1 | F19: =B19*1000+C19*100+D19*10+E19 -> 1111 | G19: Existante inchangée ; av. 30/04/2009 ; D -> D | H19: Annexe III + Annexe VI (pt I) [En vigueur] + Annexe VIII
B20: 1 | C20: 1 | D20: 1 | E20: 2 | F20: =B20*1000+C20*100+D20*10+E20 -> 1112 | G20: Existante inchangée ; av. 30/04/2009 ; D -> D | H20: Annexe III + Annexe VI (pt I) [En vigueur] + Annexe VIII | J20: Régime ? | L20: Régime ?
B21: 1 | C21: 1 | D21: 1 | E21: 3 | F21: =B21*1000+C21*100+D21*10+E21 -> 1113 | G21: Existante inchangée ; ap. 30/04/2009 ; D -> D | H21: Annexe III + Annexe VI (pt II) [En vigueur] | J21: Ø | L21: D
B22: 1 | C22: 1 | D22: 1 | E22: 4 | F22: =B22*1000+C22*100+D22*10+E22 -> 1114 | G22: Existante inchangée ; ap. 30/04/2009 ; D ->D | H22: Annexe III + Annexe VI (pt II) [En vigueur] | J22: D | L22: E
B23: 1 | C23: 2 | D23: 2 | E23: 1 | F23: =B23*1000+C23*100+D23*10+E23 -> 1221 | G23: Existante inchangée ; av. 01/07/2003 ; E -> E | H23: Annexe V (pt I) [En vigueur] + Annexe VIII | J23: E | L23: A
B24: 1 | C24: 2 | D24: 2 | E24: 2 | F24: =B24*1000+C24*100+D24*10+E24 -> 1222 | G24: Existante inchangée ; [01/07/03 ; 16/04/10] ; E -> E | H24: Annexe V (pt II) [En vigueur] + Annexe VIII | J24: A
B25: 1 | C25: 2 | D25: 2 | E25: 3 | F25: =B25*1000+C25*100+D25*10+E25 -> 1223 | G25: Existante inchangée ; [01/07/03 ; 16/04/10] ; E -> E | H25: Annexe V (pt II) [En vigueur] + Annexe VIII
B26: 1 | C26: 2 | D26: 2 | E26: 4 | F26: =B26*1000+C26*100+D26*10+E26 -> 1224 | G26: Existante inchangée ; ap. 16/04/2010 ; E ->E | H26: Annexe V (pt III) [En vigueur] + Annexe VIII
B27: 1 | C27: 3 | D27: 3 | E27: 1 | F27: =B27*1000+C27*100+D27*10+E27 -> 1331 | G27: Existante inchangée ; av. 01/07/2003 ; A ->A | H27: Annexe IV (pt I) [En vigueur] + Annexe VIII
B28: 1 | C28: 3 | D28: 3 | E28: 2 | F28: =B28*1000+C28*100+D28*10+E28 -> 1332 | G28: Existante inchangée ; ap. 01/07/2003 ; A ->A | H28: Annexe IV (pt II) [En vigueur] + Annexe VIII
B29: 1 | C29: 3 | D29: 3 | E29: 3 | F29: =B29*1000+C29*100+D29*10+E29 -> 1333 | G29: Existante inchangée ; ap. 01/07/2003 ; A ->A | H29: Annexe IV (pt II) [En vigueur] + Annexe VIII
B30: 1 | C30: 3 | D30: 3 | E30: 4 | F30: =B30*1000+C30*100+D30*10+E30 -> 1334 | G30: Existante inchangée ; ap. 01/07/2003 ; A ->A | H30: Annexe IV (pt II) [En vigueur] + Annexe VIII
B31: 1 | C31: 1 | D31: 2 | E31: 1 | F31: =B31*1000+C31*100+D31*10+E31 -> 1121 | G31: Existante modifiée ; av. 30/04/09 ; D -> E/A | H31: Annexe VI (pt I) [31-12-20] + Annexe VII (pt I)+ Annexe VIII
B32: 1 | C32: 1 | D32: 2 | E32: 2 | F32: =B32*1000+C32*100+D32*10+E32 -> 1122 | G32: Existante modifiée ; av. 30/04/09 ; D -> E/A | H32: Annexe VI (pt I) [31-12-20] + Annexe VII (pt I) + Annexe VIII
B33: 1 | C33: 1 | D33: 2 | E33: 3 | F33: =B33*1000+C33*100+D33*10+E33 -> 1123 | G33: Existante modifiée ; ap. 30/04/09 ; D -> E/A | H33: Annexe VI (pt II) [31-12-20] + Annexe VII (pt I) + Annexe VIII
B34: 1 | C34: 1 | D34: 2 | E34: 4 | F34: =B34*1000+C34*100+D34*10+E34 -> 1124 | G34: Existante modifiée ; ap. 30/04/09 ; D -> E/A | H34: Annexe VI (pt II) [31-12-20] + Annexe VII (pt I) + Annexe VIII
B35: 1 | C35: 1 | D35: 3 | E35: 1 | F35: =B35*1000+C35*100+D35*10+E35 -> 1131 | G35: Existante modifiée ; av. 30/04/09 ; D -> E/A | H35: Annexe VI (pt I) [31-12-20] + Annexe VII (pt I) + Annexe VIII
B36: 1 | C36: 1 | D36: 3 | E36: 2 | F36: =B36*1000+C36*100+D36*10+E36 -> 1132 | G36: Existante modifiée ; av. 30/04/09 ; D -> E/A | H36: Annexe VI (pt I) [31-12-20] + Annexe VII (pt I) + Annexe VIII
... B152: 1 | C152: 3 | D152: 3 | E152: 6 | F152: =B152*1000+C152*100+D152*10+E152 -> 1336 | G152: Incohérence des informations saisies | H152: Incohérence des informations saisies
